Workbook

Sheet scorehulp
A1: Scorehulp voor de Autistic Women's Questionnaire (AWE) screeningsvragenlijst voor autisme.
A2: Download de AWE gratis op www.emfasisonderzoek.org. De AWE mag vrij worden gebuikt in wetenschap en praktijk. Verwijs in publicaties naar de onderstaande referentie. Groen, Y.; Ebert, W.M.; Dittner, F.M.; Stapert, A.F.; Henning, D.; Greaves-Lord, K.; Davids, R.C.D.; Castelein, S.; Baron Cohen, S.; Allison, C.; Van Balkom, I.D.C; Piening, S. Measuring the Autistic Women’s Experience (AWE). Int. J. Environ. Res. Public Health 2023, 20, 7148. https://doi.org/10.3390/ijerph20247148 Vragen? Mail Dr. Yvonne Groen y.groen@rug.nl
A9: Instructie: STAP1: Voer in het witte vak de antwoorden op ieder item in. Helemaal mee eens = 1; Een beetje mee eens = 2; Een beetje mee oneens = 3; Helemaal mee oneens = 4. De scores worden automatisch berekend en komen in het groene vak te staan. STAP2: De schaalscores worden tevens automatisch berekend en komen in de blauwe vakken te staan. Lees de normscores af in de vier verschillende normtabellen (kies de meest passende normgroepen). Vul het normlabel (zoals "hoog") in het witte vak achter de schaalscores in. STAP3: Klik op het tabblad “bespreekformulier”. Hier staan beschrijvingen van de schaalscores met daarachter de normscores van de invuller. De ingevulde normlabels van stap 2 worden automatisch doorgedrukt.
A20: Datum van vandaag: | C20: 45385
A21: Leeftijd: | C21: 37
A22: Gender: | C22: vrouw | J22: Vrouwen uit de algemene bevolking (N = 237, leeftijd 16-82 jaar)
A23: STAP 1 | E23: STAP 2 | J23: Zeer laag | K23: Laag | L23: Gemiddeld | M23: Hoog | N23: Zeer hoog
A24: Autistic Women's Experience (AWE) | H24: Schaalscores | I24: Vul in | J24: Perc≤2.5 | K24: 2.5<Perc≤35 | L24: 35<Perc≤65 | M24: 65<Perc≤97.5 | N24: Perc>97.5
A25: Item | B25: Antwoord | C25: Score | E25: AWE totaalschaal | H25: =SUM(C26:C74) -> 122 | I25: bv. Hoog | J25: ≤67 | K25: 68 - 89 | L25: 90 - 105 | M25: 106 - 134 | N25: >134
A26: 1 | B26: 4 | C26: =B26 -> 4 | E26: Sociaal functioneren en communicatie (SFC) | H26: =C33+C35+C38+C46+C48+C51+C54+C55+C58+C59+C60+C61+C64+C68+C69+C70+C71+C72+C73 -> 53 | I26: bv. Hoog | J26: ≤24 | K26: 25 - 37 | L26: 38 - 44 | M26: 45 - 62 | N26: >62
A27: 2 | B27: 3 | C27: =B27 -> 3 | E27: Initiatief en sociale motivatie (ISM) | H27: =C29+C30+C39+C44+C47+C49+C56+C62+C63+C65+C67 -> 32 | I27: bv. Hoog | J27: ≤13 | K27: 14 - 18 | L27: 19 - 22 | M27: 23 - 29 | N27: >29
A28: 3 | B28: 2 | C28: =IF(B28=1,4)+IF(B28=2,3)+IF(B28=3,2)+IF(B28=4,1) -> 3 | E28: Sociale intuïtie (SI) | H28: =C26+C27+C32+C36+C37+C40+C41+C43+C45 -> 23 | I28: bv. Hoog | J28: ≤10 | K28: 11 - 14 | L28: 15 - 18 | M28: 19 - 23 | N28: >23
A29: 4 | B29: 1 | C29: =IF(B29=1,4)+IF(B29=2,3)+IF(B29=3,2)+IF(B29=4,1) -> 4 | E29: Grenzen aanvoelen (SB) | H29: =C52+C53+C57+C66+C74 -> 6 | I29: bv. Zeer laag | J29: ≤6 | K29: 7 - 10 | L29: 11 - 12 | M29: 13 - 19 | N29: >19
A30: 5 | B30: 4 | C30: =B30 -> 4 | E30: Aandacht voor details (AD) | H30: =C28+C31+C34+C42+C50 -> 8 | I30: bv. Laag | J30: ≤5 | K30: 6 - 8 | L30: 9 - 10 | M30: 11 - 17 | N30: >17
A31: 6 | B31: 3 | C31: =IF(B31=1,4)+IF(B31=2,3)+IF(B31=3,2)+IF(B31=4,1) -> 2 | J31: Autistische vrouwen (N = 79, leeftijd 19-64 jaar)
A32: 7 | B32: 2 | C32: =IF(B32=1,4)+IF(B32=2,3)+IF(B32=3,2)+IF(B32=4,1) -> 3 | J32: Zeer laag | K32: Laag | L32: Gemiddeld | M32: Hoog | N32: Zeer hoog
A33: 8 | B33: 1 | C33: =IF(B33=1,4)+IF(B33=2,3)+IF(B33=3,2)+IF(B33=4,1) -> 4 | H33: Schaalscores | I33: Vul in | J33: Perc≤2.5 | K33: 2.5<Perc≤35 | L33: 35<Perc≤65 | M33: 65<Perc≤97.5 | N33: Perc>97.5
A34: 9 | B34: 4 | C34: =IF(B34=1,4)+IF(B34=2,3)+IF(B34=3,2)+IF(B34=4,1) -> 1 | E34: AWE totaalschaal | H34: =H25 -> 122 | I34: bv. Laag | J34: ≤95 | K34: 96 - 136 | L34: 137 - 147 | M34: 148 - 171 | N34: >171
A35: 10 | B35: 3 | C35: =IF(B35=1,4)+IF(B35=2,3)+IF(B35=3,2)+IF(B35=4,1) -> 2 | E35: Sociaal functioneren en communicatie (SFC) | H35: =H26 -> 53 | I35: bv. Laag | J35: ≤35 | K35: 36 - 57 | L35: 58 - 62 | M35: 63 - 73 | N35: >73
A36: 11 | B36: 2 | C36: =B36 -> 2 | E36: Initiatief en sociale motivatie (ISM) | H36: =H27 -> 32 | I36: bv. Gemiddeld | J36: ≤19 | K36: 20 - 29 | L36: 30 - 33 | M36: 34 - 41 | N36: >41
A37: 12 | B37: 1 | C37: =B37 -> 1 | E37: Sociale intuïtie (SI) | H37: =H28 -> 23 | I37: bv. Gemiddeld | J37: ≤13 | K37: 14 - 21 | L37: 22 - 25 | M37: 26 – 33 | N37: >33
A38: 13 | B38: 4 | C38: =IF(B38=1,4)+IF(B38=2,3)+IF(B38=3,2)+IF(B38=4,1) -> 1 | E38: Grenzen aanvoelen (SB) | H38: =H29 -> 6 | I38: bv. Zeer laag | J38: ≤11 | K38: 12 - 15 | L38: 16 - 18 | M38: 19 - 20 | N38: >20
A39: 14 | B39: 3 | C39: =B39 -> 3 | E39: Aandacht voor details (AD) | H39: =H30 -> 8 | I39: bv. Laag | J39: ≤7 | K39: 8 - 12 | L39: 13 - 14 | M39: 15 - 19 | N39: >19
A40: 15 | B40: 2 | C40: =IF(B40=1,4)+IF(B40=2,3)+IF(B40=3,2)+IF(B40=4,1) -> 3 | J40: Mannen uit de algemene bevolking (N = 236, leeftijd 18-86 jaar)
A41: 16 | B41: 1 | C41: =B41 -> 1 | J41: Zeer laag | K41: Laag | L41: Gemiddeld | M41: Hoog | N41: Zeer hoog
A42: 17 | B42: 4 | C42: =IF(B42=1,4)+IF(B42=2,3)+IF(B42=3,2)+IF(B42=4,1) -> 1 | H42: Schaalscores | I42: Vul in | J42: Perc≤2.5 | K42: 2.5<Perc≤35 | L42: 35<Perc≤65 | M42: 65<Perc≤97.5 | N42: Perc>97.5
A43: 18 | B43: 3 | C43: =IF(B43=1,4)+IF(B43=2,3)+IF(B43=3,2)+IF(B43=4,1) -> 2 | E43: AWE totaalschaal | H43: =H25 -> 122 | I43: bv. Hoog | J43: ≤67 | K43: 68 - 92 | L43: 93 - 105 | M43: 106 - 132 | N43: >132
A44: 19 | B44: 2 | C44: =B44 -> 2 | E44: Sociaal functioneren en communicatie (SFC) | H44: =H26 -> 53 | I44: bv. Hoog | J44: ≤25 | K44: 26 - 37 | L44: 38 - 42 | M44: 43 - 58 | N44: >58
A45: 20 | B45: 1 | C45: =IF(B45=1,4)+IF(B45=2,3)+IF(B45=3,2)+IF(B45=4,1) -> 4 | E45: Initiatief en sociale motivatie (ISM) | H45: =H27 -> 32 | I45: bv. Hoog | J45: ≤12 | K45: 13 - 19 | L45: 20 - 23 | M45: 24 - 36 | N45: >36
A46: 21 | B46: 4 | C46: =IF(B46=1,4)+IF(B46=2,3)+IF(B46=3,2)+IF(B46=4,1) -> 1 | E46: Sociale intuïtie (SI) | H46: =H28 -> 23 | I46: bv. Hoog | J46: ≤9 | K46: 10 - 16 | L46: 17 - 19 | M46: 20 - 25 | N46: >25
A47: 22 | B47: 3 | C47: =B47 -> 3 | E47: Grenzen aanvoelen (SB) | H47: =H29 -> 6 | I47: bv. Laag | J47: ≤5 | K47: 6 - 9 | L47: 10 - 11 | M47: 12 - 16 | N47: >16
A48: 23 | B48: 2 | C48: =IF(B48=1,4)+IF(B48=2,3)+IF(B48=3,2)+IF(B48=4,1) -> 3 | E48: Aandacht voor details (AD) | H48: =H30 -> 8 | I48: bv. Laag | J48: ≤5 | K48: 6 - 10 | L48: 11 - 13 | M48: 14 - 17 | N48: >17
A49: 24 | B49: 1 | C49: =B49 -> 1 | J49: Autistische mannen (N = 59, leeftijd 16-72 jaar)
A50: 25 | B50: 4 | C50: =IF(B50=1,4)+IF(B50=2,3)+IF(B50=3,2)+IF(B50=4,1) -> 1 | J50: Zeer laag | K50: Laag | L50: Gemiddeld | M50: Hoog | N50: Zeer hoog
A51: 26 | B51: 3 | C51: =IF(B51=1,4)+IF(B51=2,3)+IF(B51=3,2)+IF(B51=4,1) -> 2 | H51: Schaalscores | I51: Vul in | J51: Perc≤2.5 | K51: 2.5<Perc≤35 | L51: 35<Perc≤65 | M51: 65<Perc≤97.5 | N51: Perc>97.5
A52: 27 | B52: 2 | C52: =B52 -> 2 | E52: AWE totaalschaal | H52: =H25 -> 122 | I52: bv. Laag | J52: ≤90 | K52: 91 - 125 | L52: 126 - 143 | M52: 144 - 171 | N52: >171
A53: 28 | B53: 1 | C53: =B53 -> 1 | E53: Sociaal functioneren en communicatie (SFC) | H53: =H26 -> 53 | I53: bv. Gemiddeld | J53: ≤33 | K53: 34 - 49 | L53: 50 - 59 | M53: 60 - 70 | N53: >70
A54: 29 | B54: 4 | C54: =B54 -> 4 | E54: Initiatief en sociale motivatie (ISM) | H54: =H27 -> 32 | I54: bv. Gemiddeld | J54: ≤16 | K54: 17 - 28 | L54: 29 - 32 | M54: 33 - 41 | N54: >41
A55: 30 | B55: 3 | C55: =B55 -> 3 | E55: Sociale intuïtie (SI) | H55: =H28 -> 23 | I55: bv. Gemiddeld | J55: ≤13 | K55: 14 - 21 | L55: 22 - 25 | M55: 26 – 31 | N55: >31
A56: 31 | B56: 2 | C56: =B56 -> 2 | E56: Grenzen aanvoelen (SB) | H56: =H29 -> 6 | I56: bv. Zeer laag | J56: ≤7 | K56: 8 - 14 | L56: 15 - 17 | M56: 18 - 20 | N56: >20
A57: 32 | B57: 1 | C57: =B57 -> 1 | E57: Aandacht voor details (AD) | H57: =H30 -> 8 | I57: bv. Laag | J57: ≤7 | K57: 8 - 13 | L57: 14 - 16 | M57: 17 - 20 | N57: >20
A58: 33 | B58: 4 | C58: =B58 -> 4
A59: 34 | B59: 3 | C59: =IF(B59=1,4)+IF(B59=2,3)+IF(B59=3,2)+IF(B59=4,1) -> 2
A60: 35 | B60: 2 | C60: =IF(B60=1,4)+IF(B60=2,3)+IF(B60=3,2)+IF(B60=4,1) -> 3
A61: 36 | B61: 1 | C61: =IF(B61=1,4)+IF(B61=2,3)+IF(B61=3,2)+IF(B61=4,1) -> 4
A62: 37 | B62: 4 | C62: =B62 -> 4
A63: 38 | B63: 3 | C63: =IF(B63=1,4)+IF(B63=2,3)+IF(B63=3,2)+IF(B63=4,1) -> 2
A64: 39 | B64: 2 | C64: =B64 -> 2
A65: 40 | B65: 1 | C65: =IF(B65=1,4)+IF(B65=2,3)+IF(B65=3,2)+IF(B65=4,1) -> 4
A66: 41 | B66: 4 | C66: =IF(B66=1,4)+IF(B66=2,3)+IF(B66=3,2)+IF(B66=4,1) -> 1
A67: 42 | B67: 3 | C67: =B67 -> 3
A68: 43 | B68: 2 | C68: =IF(B68=1,4)+IF(B68=2,3)+IF(B68=3,2)+IF(B68=4,1) -> 3
A69: 44 | B69: 1 | C69: =IF(B69=1,4)+IF(B69=2,3)+IF(B69=3,2)+IF(B69=4,1) -> 4
A70: 45 | B70: 4 | C70: =IF(B70=1,4)+IF(B70=2,3)+IF(B70=3,2)+IF(B70=4,1) -> 1
A71: 46 | B71: 3 | C71: =B71 -> 3
A72: 47 | B72: 2 | C72: =IF(B72=1,4)+IF(B72=2,3)+IF(B72=3,2)+IF(B72=4,1) -> 3
A73: 48 | B73: 1 | C73: =IF(B73=1,4)+IF(B73=2,3)+IF(B73=3,2)+IF(B73=4,1) -> 4
A74: 49 | B74: 4 | C74: =IF(B74=1,4)+IF(B74=2,3)+IF(B74=3,2)+IF(B74=4,1) -> 1

Sheet bespreekformulier
A1: Bespreekformulier bij de Autistic Women’s Experience (AWE) screeningsvragenlijst voor autisme.
A4: Voorzichtigheid is geboden bij de interpretatie van de uitslag van deze screeningsvragenlijst. Bespreek twijfels en onduidelijkheden met een zorgverlener. U kunt dit scoreformulier eventueel meenemen naar een gesprek met een zorgverlener. De AWE is een screeningsinstrument dat vergeleken met de algemene bevolking kan screenen of er mogelijk sprake is van een autismespectrumstoornis. Voor een autisme diagnose is meer onderzoek (diagnostiek) noodzakelijk. Indien u (mede op basis van deze screeningsvragenlijst) vermoedt dat u mogelijk een autismespectrumstoornis zou kunnen hebben, kan uw huisarts u verwijzen naar een zorgverlener die dit zorgvuldig met u kan onderzoeken. Het is momenteel nog niet onderzocht of de AWE goed onderscheid kan maken tussen autismespectrumstoornissen en andere psychische/psychiatrische problemen zoals bijvoorbeeld angststoornissen. Verhoogde AWE scores kunnen ook passen bij veelvoorkomende persoonlijkheidskenmerken zoals introversie of hoogsensitiviteit. Ook daarom is zorgvuldige diagnostiek noodzakelijk alvorens gesproken kan worden van een autismespectrumstoornis.
F17: Jouw score is:
A18: AWE totaalscore | F18: =scorehulp!H25 -> 122 | H18: Een totaalscore van 123+ is voorspellend voor een autisme diagnose
F21: Ten opzichte van vrouwen uit de algemene bevolking scoor je: | H21: Ten opzichte van autistische vrouwen scoor je: | J21: Ten opzichte van mannen uit de algemene bevolking scoor je: | L21: Ten opzichte van autistische mannen scoor je:
A22: AWE totaalschaal | F22: =scorehulp!I25 -> bv. Hoog | H22: =scorehulp!I34 -> bv. Laag | J22: =scorehulp!I43 -> bv. Hoog | L22: =scorehulp!I52 -> bv. Laag
A23: Een hoge score betekent: • Je hebt meestal moeite met sociaal functioneren en communiceren en probeert dit (soms) te maskeren, • En/of, je hebt meestal moeite met initiatief nemen en jouw sociale motivatie is meestal laag, • En/of, je hebt meestal moeite met sociale intuïtie, • En/of, je hebt meestal moeite om je eigen grenzen aan te voelen, • En/of, je hebt sterke fascinaties en veel aandacht voor details. Zie onderstaande subschalen voor meer uitleg over de betekenis van deze ervaringen.
F33: Ten opzichte van vrouwen uit de algemene bevolking scoor je: | H33: Ten opzichte van autistische vrouwen scoor je: | J33: Ten opzichte van mannen uit de algemene bevolking scoor je: | L33: Ten opzichte van autistische mannen scoor je:
A34: Sociaal functioneren en communicatie (SFC) | F34: =scorehulp!I26 -> bv. Hoog | H34: =scorehulp!I35 -> bv. Laag | J34: =scorehulp!I43 -> bv. Hoog | L34: =scorehulp!I52 -> bv. Laag
A35: Een hoge score betekent: • Je hebt meestal moeite in de omgang met anderen tijdens sociale gebeurtenissen en het voeren van gesprekken. Bv. moeite om een houding aan te nemen, van slag raken als de stemming van de ander niet goed is, stilvallen in een gesprek met meerder mensen, na afloop lang moeten nadenken wat iemand bedoelde. • En/of, je bent meestal continue bewust bezig met hoe je je hoort te gedragen of wat je hoort zeggen; dit wordt ook wel camoufleren genoemd. Bv. sociale gebeurtenissen of gesprekken van tevoren helemaal uitdenken, continue bewust observeren hoe de ander op je reageert, bij anderen afkijken wat je moet zeggen. Het kan zijn dat je tegen je zin naar sociale gebeurtenissen gaat om maar aan verwachtingen te voldoen. • En/of, je moet meestal erg je best doen om aansluiting te vinden bij anderen en/of voelt je er niet bij horen. Bv. niet automatisch weten wat je het beste kunt zeggen, of hoe je een conversatie op gang houdt. Het kan zijn dat nieuwe situaties je angstig maken. • En/of, je hebt moeite om vrienden te maken en/of vriendschappen te onderhouden. Het kan zijn dat je ontevreden bent over relaties die volgens jou niet perfect zijn.
F50: Ten opzichte van vrouwen uit de algemene bevolking scoor je: | H50: Ten opzichte van autistische vrouwen scoor je: | J50: Ten opzichte van mannen uit de algemene bevolking scoor je: | L50: Ten opzichte van autistische mannen scoor je:
A51: Initiatief en sociale motivatie (ISM) | F51: =scorehulp!I27 -> bv. Hoog | H51: =scorehulp!I36 -> bv. Gemiddeld | J51: =scorehulp!I45 -> bv. Hoog | L51: =scorehulp!I54 -> bv. Gemiddeld
A52: Een hoge score betekent: • Je geniet meestal niet echt van sociale gebeurtenissen en het kost je meestal veel energie om met mensen om te gaan. Het kan zijn dat je nieuwe mensen ontmoeten niet echt leuk vindt. • En/of, meestal houd je je liever met dingen of boeken bezig dan met mensen. Bv. Je gaat liever naar een bibliotheek dan naar een feest. Het kan zijn dat je wel doet alsof je sociaal bent. • En/of, je voelt je meestal niet op je gemak in drukke omgevingen en onderneemt liever niet spontaan iets. Bv. drukke omgevingen met veel geluid, licht en/of geur voelen meestal ongemakkelijk voor jou. Het kan zijn dat na een paar dagen niks doen niets wilt ondernemen.
F62: Ten opzichte van vrouwen uit de algemene bevolking scoor je: | H62: Ten opzichte van autistische vrouwen scoor je: | J62: Ten opzichte van mannen uit de algemene bevolking scoor je: | L62: Ten opzichte van autistische mannen scoor je:
A63: Sociale intuïtie (SI) | F63: =scorehulp!I28 -> bv. Hoog | H63: =scorehulp!I37 -> bv. Gemiddeld | J63: =scorehulp!I46 -> bv. Hoog | L63: =scorehulp!I55 -> bv. Gemiddeld
A64: Een hoge score betekent: • Je hebt meestal moeite om erachter te komen wat iemand denkt, voelt of bedoelt. Je mist vaak (nonverbale) signalen van anderen. Bv. wanneer iemand niet meer naar jou luistert als je praat, wanneer iemands woorden niet overeenkomen met de bedoeling, of wanneer iemand een grap maakt. Of je merkt het meestal pas erg laat op. • En/of, je hebt meestal weinig fantasie of voorstellingsvermogen. Bv. moeite om je voor te stellen hoe een personage eruit zou zien of je voor te stellen hoe het zou zijn om iemand anders te zijn.
F74: Ten opzichte van vrouwen uit de algemene bevolking scoor je: | H74: Ten opzichte van autistische vrouwen scoor je: | J74: Ten opzichte van mannen uit de algemene bevolking scoor je: | L74: Ten opzichte van autistische mannen scoor je:
A75: Grenzen aanvoelen (SB) | F75: =scorehulp!I29 -> bv. Zeer laag | H75: =scorehulp!I38 -> bv. Zeer laag | J75: =scorehulp!I47 -> bv. Laag | L75: =scorehulp!I56 -> bv. Zeer laag
A76: Een hoge score betekent: • Je merkt het meestal niet op (of pas erg laat) als je lijf moe is. Bv. je voelt het pas achteraf als je teveel gedaan hebt. • En/of, je het weinig energie voor gewone dagelijkse activiteiten en voelt je vaak uitgeput of overbelast. Het kan zijn dat je je hele leven al meer doet dan je eigenlijk aan kan.
F83: Ten opzichte van vrouwen uit de algemene bevolking scoor je: | H83: Ten opzichte van autistische vrouwen scoor je: | J83: Ten opzichte van mannen uit de algemene bevolking scoor je: | L83: Ten opzichte van autistische mannen scoor je:
A84: Aandacht voor details (AD) | F84: =scorehulp!I30 -> bv. Laag | H84: =scorehulp!I39 -> bv. Laag | J84: =scorehulp!I39 -> bv. Laag | L84: =scorehulp!I48 -> bv. Laag
A85: Een hoge score betekent: • Je wordt meestal gefascineerd door jaartallen, data en/of getallen. Het kan zijn dat je sterk bent in patronen herkennen. • En/of, je bent een verzamelaar, bv. van automerken, vogel-, trein-, plantensoorten, etc.. Of je weet alles over één onderwerp, bv. over dieren, diëten, historische periodes of opvoeding.
